BEGIN:VCALENDAR
VERSION:2.0
PRODID:-//Orlando SED CDD - ECPv6.13.1//NONSGML v1.0//EN
CALSCALE:GREGORIAN
METHOD:PUBLISH
X-ORIGINAL-URL:https://orlandosedcdd.com
X-WR-CALDESC:Events for Orlando SED CDD
REFRESH-INTERVAL;VALUE=DURATION:PT1H
X-Robots-Tag:noindex
X-PUBLISHED-TTL:PT1H
BEGIN:VTIMEZONE
TZID:America/New_York
BEGIN:DAYLIGHT
TZOFFSETFROM:-0500
TZOFFSETTO:-0400
TZNAME:EDT
DTSTART:20250309T070000
END:DAYLIGHT
BEGIN:STANDARD
TZOFFSETFROM:-0400
TZOFFSETTO:-0500
TZNAME:EST
DTSTART:20251102T060000
END:STANDARD
END:VTIMEZONE
BEGIN:VEVENT
DTSTART;TZID=America/New_York:20250821T100000
DTEND;TZID=America/New_York:20250821T100000
DTSTAMP:20260423T173816
CREATED:20250527T173151Z
LAST-MODIFIED:20250814T211518Z
UID:265-1755770400-1755770400@orlandosedcdd.com
SUMMARY:Orlando SED CDD - Regular Meeting August 2025
DESCRIPTION:Agenda PDF | RTF
URL:https://orlandosedcdd.com/event/orlando-sed-cdd-regular-meeting-august-2025/
LOCATION:189 South Orange\, 17th Floor\, Orlando\, FL 32801\, United States
END:VEVENT
END:VCALENDAR