BEGIN:VCALENDAR
VERSION:2.0
PRODID:-//Orlando SED CDD - ECPv6.13.1//NONSGML v1.0//EN
CALSCALE:GREGORIAN
METHOD:PUBLISH
X-ORIGINAL-URL:https://orlandosedcdd.com
X-WR-CALDESC:Events for Orlando SED CDD
REFRESH-INTERVAL;VALUE=DURATION:PT1H
X-Robots-Tag:noindex
X-PUBLISHED-TTL:PT1H
BEGIN:VTIMEZONE
TZID:America/New_York
BEGIN:DAYLIGHT
TZOFFSETFROM:-0500
TZOFFSETTO:-0400
TZNAME:EDT
DTSTART:20250309T070000
END:DAYLIGHT
BEGIN:STANDARD
TZOFFSETFROM:-0400
TZOFFSETTO:-0500
TZNAME:EST
DTSTART:20251102T060000
END:STANDARD
BEGIN:DAYLIGHT
TZOFFSETFROM:-0500
TZOFFSETTO:-0400
TZNAME:EDT
DTSTART:20260308T070000
END:DAYLIGHT
BEGIN:STANDARD
TZOFFSETFROM:-0400
TZOFFSETTO:-0500
TZNAME:EST
DTSTART:20261101T060000
END:STANDARD
END:VTIMEZONE
BEGIN:VEVENT
DTSTART;TZID=America/New_York:20260416T100000
DTEND;TZID=America/New_York:20260416T100000
DTSTAMP:20260419T103411
CREATED:20251007T123153Z
LAST-MODIFIED:20260406T122122Z
UID:488-1776333600-1776333600@orlandosedcdd.com
SUMMARY:Orlando SED CDD - Regular Meeting April 2026 - CANCELLED
DESCRIPTION:
URL:https://orlandosedcdd.com/event/orlando-sed-cdd-regular-meeting-april-2026/
LOCATION:189 South Orange\, 17th Floor\, Orlando\, FL 32801\, United States
END:VEVENT
BEGIN:VEVENT
DTSTART;TZID=America/New_York:20260326T100000
DTEND;TZID=America/New_York:20260326T100000
DTSTAMP:20260419T103411
CREATED:20251007T123053Z
LAST-MODIFIED:20260309T135643Z
UID:486-1774519200-1774519200@orlandosedcdd.com
SUMMARY:Orlando SED CDD - Regular Meeting March 2026 - CANCELLED
DESCRIPTION:
URL:https://orlandosedcdd.com/event/orlando-sed-cdd-regular-meeting-march-2026/
LOCATION:189 South Orange\, 17th Floor\, Orlando\, FL 32801\, United States
END:VEVENT
BEGIN:VEVENT
DTSTART;TZID=America/New_York:20260219T100000
DTEND;TZID=America/New_York:20260219T100000
DTSTAMP:20260419T103411
CREATED:20251007T123016Z
LAST-MODIFIED:20260204T173859Z
UID:484-1771495200-1771495200@orlandosedcdd.com
SUMMARY:Orlando SED CDD - Regular Meeting February 2026 - CANCELLED
DESCRIPTION:
URL:https://orlandosedcdd.com/event/orlando-sed-cdd-regular-meeting-february-2026/
LOCATION:189 South Orange\, 17th Floor\, Orlando\, FL 32801\, United States
END:VEVENT
BEGIN:VEVENT
DTSTART;TZID=America/New_York:20260115T100000
DTEND;TZID=America/New_York:20260115T100000
DTSTAMP:20260419T103411
CREATED:20251007T122943Z
LAST-MODIFIED:20251223T151236Z
UID:482-1768471200-1768471200@orlandosedcdd.com
SUMMARY:Orlando SED CDD - Regular Meeting January 2026 - CANCELLED
DESCRIPTION:
URL:https://orlandosedcdd.com/event/orlando-sed-cdd-regular-meeting-january-2026/
LOCATION:189 South Orange\, 17th Floor\, Orlando\, FL 32801\, United States
END:VEVENT
BEGIN:VEVENT
DTSTART;TZID=America/New_York:20251218T100000
DTEND;TZID=America/New_York:20251218T100000
DTSTAMP:20260419T103411
CREATED:20251007T122859Z
LAST-MODIFIED:20251124T143609Z
UID:480-1766052000-1766052000@orlandosedcdd.com
SUMMARY:Orlando SED CDD - Regular Meeting December 2025 - CANCELLED
DESCRIPTION:
URL:https://orlandosedcdd.com/event/orlando-sed-cdd-regular-meeting-december-2025/
LOCATION:189 South Orange\, 17th Floor\, Orlando\, FL 32801\, United States
END:VEVENT
BEGIN:VEVENT
DTSTART;TZID=America/New_York:20251120T100000
DTEND;TZID=America/New_York:20251120T100000
DTSTAMP:20260419T103411
CREATED:20251007T122803Z
LAST-MODIFIED:20251105T214549Z
UID:478-1763632800-1763632800@orlandosedcdd.com
SUMMARY:Orlando SED CDD - Regular Meeting November 2025 - CANCELLED
DESCRIPTION:
URL:https://orlandosedcdd.com/event/orlando-sed-cdd-regular-meeting-november-2025/
LOCATION:189 South Orange\, 17th Floor\, Orlando\, FL 32801\, United States
END:VEVENT
BEGIN:VEVENT
DTSTART;TZID=America/New_York:20251016T100000
DTEND;TZID=America/New_York:20251016T100000
DTSTAMP:20260419T103411
CREATED:20251007T122719Z
LAST-MODIFIED:20251007T124759Z
UID:476-1760608800-1760608800@orlandosedcdd.com
SUMMARY:Orlando SED CDD - Regular Meeting October 2025 - CANCELLED
DESCRIPTION:
URL:https://orlandosedcdd.com/event/orlando-sed-cdd-regular-meeting-october-2025/
LOCATION:189 South Orange\, 17th Floor\, Orlando\, FL 32801\, United States
END:VEVENT
BEGIN:VEVENT
DTSTART;TZID=America/New_York:20250918T100000
DTEND;TZID=America/New_York:20250918T100000
DTSTAMP:20260419T103411
CREATED:20250527T173151Z
LAST-MODIFIED:20250910T144019Z
UID:266-1758189600-1758189600@orlandosedcdd.com
SUMMARY:Orlando SED CDD - Regular Meeting September 2025 - CANCELLED
DESCRIPTION:
URL:https://orlandosedcdd.com/event/orlando-sed-cdd-regular-meeting-september-2025/
LOCATION:189 South Orange\, 17th Floor\, Orlando\, FL 32801\, United States
END:VEVENT
BEGIN:VEVENT
DTSTART;TZID=America/New_York:20250821T100000
DTEND;TZID=America/New_York:20250821T100000
DTSTAMP:20260419T103411
CREATED:20250527T173151Z
LAST-MODIFIED:20250814T211518Z
UID:265-1755770400-1755770400@orlandosedcdd.com
SUMMARY:Orlando SED CDD - Regular Meeting August 2025
DESCRIPTION:Agenda PDF | RTF
URL:https://orlandosedcdd.com/event/orlando-sed-cdd-regular-meeting-august-2025/
LOCATION:189 South Orange\, 17th Floor\, Orlando\, FL 32801\, United States
END:VEVENT
BEGIN:VEVENT
DTSTART;TZID=America/New_York:20250724T100000
DTEND;TZID=America/New_York:20250724T100000
DTSTAMP:20260419T103411
CREATED:20250527T173151Z
LAST-MODIFIED:20250714T203000Z
UID:264-1753351200-1753351200@orlandosedcdd.com
SUMMARY:Orlando SED CDD - Regular Meeting July 2025 - CANCELLED
DESCRIPTION:
URL:https://orlandosedcdd.com/event/orlando-sed-cdd-regular-meeting-july-2025/
LOCATION:189 South Orange\, 17th Floor\, Orlando\, FL 32801\, United States
END:VEVENT
BEGIN:VEVENT
DTSTART;TZID=America/New_York:20250626T100000
DTEND;TZID=America/New_York:20250626T100000
DTSTAMP:20260419T103411
CREATED:20250527T173149Z
LAST-MODIFIED:20250618T120348Z
UID:263-1750932000-1750932000@orlandosedcdd.com
SUMMARY:Orlando SED CDD - Regular Meeting June 2025 - CANCELLED
DESCRIPTION:
URL:https://orlandosedcdd.com/event/orlando-sed-cdd-regular-meeting-june-2025/
LOCATION:189 South Orange\, 17th Floor\, Orlando\, FL 32801\, United States
END:VEVENT
BEGIN:VEVENT
DTSTART;TZID=America/New_York:20250515T100000
DTEND;TZID=America/New_York:20250515T100000
DTSTAMP:20260419T103411
CREATED:20250527T173148Z
LAST-MODIFIED:20250527T173148Z
UID:262-1747303200-1747303200@orlandosedcdd.com
SUMMARY:Orlando SED CDD - Regular Meeting May 2025
DESCRIPTION:
URL:https://orlandosedcdd.com/event/orlando-sed-cdd-regular-meeting-may-2025/
LOCATION:189 South Orange\, 17th Floor\, Orlando\, FL 32801\, United States
END:VEVENT
BEGIN:VEVENT
DTSTART;TZID=America/New_York:20250417T100000
DTEND;TZID=America/New_York:20250417T100000
DTSTAMP:20260419T103411
CREATED:20250527T173148Z
LAST-MODIFIED:20250527T173148Z
UID:261-1744884000-1744884000@orlandosedcdd.com
SUMMARY:Orlando SED CDD - Regular Meeting April 2025
DESCRIPTION:
URL:https://orlandosedcdd.com/event/orlando-sed-cdd-regular-meeting-april-2025/
LOCATION:189 South Orange\, 17th Floor\, Orlando\, FL 32801\, United States
END:VEVENT
BEGIN:VEVENT
DTSTART;TZID=America/New_York:20250327T100000
DTEND;TZID=America/New_York:20250327T100000
DTSTAMP:20260419T103411
CREATED:20250527T173148Z
LAST-MODIFIED:20250527T173148Z
UID:260-1743069600-1743069600@orlandosedcdd.com
SUMMARY:Orlando SED CDD - Regular Meeting March 2025
DESCRIPTION:
URL:https://orlandosedcdd.com/event/orlando-sed-cdd-regular-meeting-march-2025/
LOCATION:189 South Orange\, 17th Floor\, Orlando\, FL 32801\, United States
END:VEVENT
BEGIN:VEVENT
DTSTART;TZID=America/New_York:20250220T100000
DTEND;TZID=America/New_York:20250220T100000
DTSTAMP:20260419T103411
CREATED:20250527T173148Z
LAST-MODIFIED:20250527T173148Z
UID:259-1740045600-1740045600@orlandosedcdd.com
SUMMARY:Orlando SED CDD - Regular Meeting February 2025
DESCRIPTION:
URL:https://orlandosedcdd.com/event/orlando-sed-cdd-regular-meeting-february-2025/
LOCATION:189 South Orange\, 17th Floor\, Orlando\, FL 32801\, United States
END:VEVENT
END:VCALENDAR