BEGIN:VCALENDAR
VERSION:2.0
PRODID:-//Orlando SED CDD - ECPv6.13.1//NONSGML v1.0//EN
CALSCALE:GREGORIAN
METHOD:PUBLISH
X-WR-CALNAME:Orlando SED CDD
X-ORIGINAL-URL:https://orlandosedcdd.com
X-WR-CALDESC:Events for Orlando SED CDD
REFRESH-INTERVAL;VALUE=DURATION:PT1H
X-Robots-Tag:noindex
X-PUBLISHED-TTL:PT1H
BEGIN:VTIMEZONE
TZID:America/New_York
BEGIN:DAYLIGHT
TZOFFSETFROM:-0500
TZOFFSETTO:-0400
TZNAME:EDT
DTSTART:20260308T070000
END:DAYLIGHT
BEGIN:STANDARD
TZOFFSETFROM:-0400
TZOFFSETTO:-0500
TZNAME:EST
DTSTART:20261101T060000
END:STANDARD
END:VTIMEZONE
BEGIN:VEVENT
DTSTART;TZID=America/New_York:20260219T100000
DTEND;TZID=America/New_York:20260219T100000
DTSTAMP:20260423T063635
CREATED:20251007T123016Z
LAST-MODIFIED:20260204T173859Z
UID:484-1771495200-1771495200@orlandosedcdd.com
SUMMARY:Orlando SED CDD - Regular Meeting February 2026 - CANCELLED
DESCRIPTION:
URL:https://orlandosedcdd.com/event/orlando-sed-cdd-regular-meeting-february-2026/
LOCATION:189 South Orange\, 17th Floor\, Orlando\, FL 32801\, United States
END:VEVENT
END:VCALENDAR